BEGIN:VCALENDAR
VERSION:2.0
PRODID:-//Northern Ireland Bridge Union - ECPv6.15.20//NONSGML v1.0//EN
CALSCALE:GREGORIAN
METHOD:PUBLISH
X-ORIGINAL-URL:https://nibu1.co.uk
X-WR-CALDESC:Events for Northern Ireland Bridge Union
REFRESH-INTERVAL;VALUE=DURATION:PT1H
X-Robots-Tag:noindex
X-PUBLISHED-TTL:PT1H
BEGIN:VTIMEZONE
TZID:Europe/London
BEGIN:DAYLIGHT
TZOFFSETFROM:+0000
TZOFFSETTO:+0100
TZNAME:BST
DTSTART:20240331T010000
END:DAYLIGHT
BEGIN:STANDARD
TZOFFSETFROM:+0100
TZOFFSETTO:+0000
TZNAME:GMT
DTSTART:20241027T010000
END:STANDARD
BEGIN:DAYLIGHT
TZOFFSETFROM:+0000
TZOFFSETTO:+0100
TZNAME:BST
DTSTART:20250330T010000
END:DAYLIGHT
BEGIN:STANDARD
TZOFFSETFROM:+0100
TZOFFSETTO:+0000
TZNAME:GMT
DTSTART:20251026T010000
END:STANDARD
BEGIN:DAYLIGHT
TZOFFSETFROM:+0000
TZOFFSETTO:+0100
TZNAME:BST
DTSTART:20260329T010000
END:DAYLIGHT
BEGIN:STANDARD
TZOFFSETFROM:+0100
TZOFFSETTO:+0000
TZNAME:GMT
DTSTART:20261025T010000
END:STANDARD
END:VTIMEZONE
BEGIN:VEVENT
DTSTART;VALUE=DATE:20251121
DTEND;VALUE=DATE:20251124
DTSTAMP:20260423T164442
CREATED:20250621T113739Z
LAST-MODIFIED:20250621T113739Z
UID:6445-1763683200-1763942399@nibu1.co.uk
SUMMARY:Lady Milne Trials
DESCRIPTION:
URL:https://nibu1.co.uk/event/lady-milne-trials-4
LOCATION:KMBC
END:VEVENT
BEGIN:VEVENT
DTSTART;VALUE=DATE:20251121
DTEND;VALUE=DATE:20251124
DTSTAMP:20260423T164442
CREATED:20250621T115912Z
LAST-MODIFIED:20250621T115912Z
UID:6463-1763683200-1763942399@nibu1.co.uk
SUMMARY:Kilkenny Congress
DESCRIPTION:
URL:https://nibu1.co.uk/event/kilkenny-congress
LOCATION:Kilkenny
END:VEVENT
END:VCALENDAR