BEGIN:VCALENDAR
VERSION:2.0
PRODID:-//Northern Ireland Bridge Union - ECPv6.15.20//NONSGML v1.0//EN
CALSCALE:GREGORIAN
METHOD:PUBLISH
X-ORIGINAL-URL:https://nibu1.co.uk
X-WR-CALDESC:Events for Northern Ireland Bridge Union
REFRESH-INTERVAL;VALUE=DURATION:PT1H
X-Robots-Tag:noindex
X-PUBLISHED-TTL:PT1H
BEGIN:VTIMEZONE
TZID:Europe/London
BEGIN:DAYLIGHT
TZOFFSETFROM:+0000
TZOFFSETTO:+0100
TZNAME:BST
DTSTART:20190331T010000
END:DAYLIGHT
BEGIN:STANDARD
TZOFFSETFROM:+0100
TZOFFSETTO:+0000
TZNAME:GMT
DTSTART:20191027T010000
END:STANDARD
BEGIN:DAYLIGHT
TZOFFSETFROM:+0000
TZOFFSETTO:+0100
TZNAME:BST
DTSTART:20200329T010000
END:DAYLIGHT
BEGIN:STANDARD
TZOFFSETFROM:+0100
TZOFFSETTO:+0000
TZNAME:GMT
DTSTART:20201025T010000
END:STANDARD
BEGIN:DAYLIGHT
TZOFFSETFROM:+0000
TZOFFSETTO:+0100
TZNAME:BST
DTSTART:20210328T010000
END:DAYLIGHT
BEGIN:STANDARD
TZOFFSETFROM:+0100
TZOFFSETTO:+0000
TZNAME:GMT
DTSTART:20211031T010000
END:STANDARD
END:VTIMEZONE
BEGIN:VEVENT
DTSTART;VALUE=DATE:20200802
DTEND;VALUE=DATE:20200804
DTSTAMP:20260422T191659
CREATED:20200709T163344Z
LAST-MODIFIED:20200720T121026Z
UID:1428-1596330000-1596416399@nibu1.co.uk
SUMMARY:Ciara Burns Gala Pairs Online Inter A/B & Novice
DESCRIPTION:2 sessions 2pm and 7pm \nClick here to access online entry form
URL:https://nibu1.co.uk/event/gala-pairs-inter-a-b-novice
LOCATION:BBO
END:VEVENT
BEGIN:VEVENT
DTSTART;TZID=Europe/London:20200823T153000
DTEND;TZID=Europe/London:20200823T180000
DTSTAMP:20260422T191659
CREATED:20200722T134438Z
LAST-MODIFIED:20200722T134438Z
UID:1460-1598196600-1598205600@nibu1.co.uk
SUMMARY:NIBU AGM
DESCRIPTION:
URL:https://nibu1.co.uk/event/nibu-agm-2
LOCATION:La Mon
END:VEVENT
END:VCALENDAR