BEGIN:VCALENDAR
VERSION:2.0
PRODID:-//Northern Ireland Bridge Union - ECPv6.15.20//NONSGML v1.0//EN
CALSCALE:GREGORIAN
METHOD:PUBLISH
X-WR-CALNAME:Northern Ireland Bridge Union
X-ORIGINAL-URL:https://nibu1.co.uk
X-WR-CALDESC:Events for Northern Ireland Bridge Union
REFRESH-INTERVAL;VALUE=DURATION:PT1H
X-Robots-Tag:noindex
X-PUBLISHED-TTL:PT1H
BEGIN:VTIMEZONE
TZID:Europe/London
BEGIN:DAYLIGHT
TZOFFSETFROM:+0000
TZOFFSETTO:+0100
TZNAME:BST
DTSTART:20210328T010000
END:DAYLIGHT
BEGIN:STANDARD
TZOFFSETFROM:+0100
TZOFFSETTO:+0000
TZNAME:GMT
DTSTART:20211031T010000
END:STANDARD
BEGIN:DAYLIGHT
TZOFFSETFROM:+0000
TZOFFSETTO:+0100
TZNAME:BST
DTSTART:20220327T010000
END:DAYLIGHT
BEGIN:STANDARD
TZOFFSETFROM:+0100
TZOFFSETTO:+0000
TZNAME:GMT
DTSTART:20221030T010000
END:STANDARD
BEGIN:DAYLIGHT
TZOFFSETFROM:+0000
TZOFFSETTO:+0100
TZNAME:BST
DTSTART:20230326T010000
END:DAYLIGHT
BEGIN:STANDARD
TZOFFSETFROM:+0100
TZOFFSETTO:+0000
TZNAME:GMT
DTSTART:20231029T010000
END:STANDARD
END:VTIMEZONE
BEGIN:VEVENT
DTSTART;VALUE=DATE:20220402
DTEND;VALUE=DATE:20220404
DTSTAMP:20260421T204515
CREATED:20220314T144610Z
LAST-MODIFIED:20220314T144610Z
UID:3314-1648857600-1649030399@nibu1.co.uk
SUMMARY:Moylan Cup
DESCRIPTION:NIBU has 8 places reserved for this prestigious pairs event \nAny pair wishing to be considered should contact mjmcfaul@gmail.com
URL:https://nibu1.co.uk/event/moylan-cup
LOCATION:Malahide
END:VEVENT
BEGIN:VEVENT
DTSTART;TZID=Europe/London:20220410T110000
DTEND;TZID=Europe/London:20220410T170000
DTSTAMP:20260421T204515
CREATED:20220314T144701Z
LAST-MODIFIED:20220408T193223Z
UID:3316-1649588400-1649610000@nibu1.co.uk
SUMMARY:Northern Pairs - CANCELLED
DESCRIPTION:
URL:https://nibu1.co.uk/event/northern-pairs-3
LOCATION:BBO
END:VEVENT
BEGIN:VEVENT
DTSTART;VALUE=DATE:20220422
DTEND;VALUE=DATE:20220425
DTSTAMP:20260421T204515
CREATED:20220314T145056Z
LAST-MODIFIED:20220314T145056Z
UID:3320-1650585600-1650844799@nibu1.co.uk
SUMMARY:Lady Milne Trophy
DESCRIPTION:
URL:https://nibu1.co.uk/event/lady-milne-trophy-2
LOCATION:Wales
END:VEVENT
BEGIN:VEVENT
DTSTART;VALUE=DATE:20220426
DTEND;VALUE=DATE:20220429
DTSTAMP:20260421T204515
CREATED:20220314T145226Z
LAST-MODIFIED:20220314T145226Z
UID:3322-1650931200-1651190399@nibu1.co.uk
SUMMARY:Senior's Congress
DESCRIPTION:
URL:https://nibu1.co.uk/event/seniors-congress
END:VEVENT
END:VCALENDAR