BEGIN:VCALENDAR
VERSION:2.0
PRODID:-//Northern Ireland Bridge Union - ECPv6.15.20//NONSGML v1.0//EN
CALSCALE:GREGORIAN
METHOD:PUBLISH
X-WR-CALNAME:Northern Ireland Bridge Union
X-ORIGINAL-URL:https://nibu1.co.uk
X-WR-CALDESC:Events for Northern Ireland Bridge Union
REFRESH-INTERVAL;VALUE=DURATION:PT1H
X-Robots-Tag:noindex
X-PUBLISHED-TTL:PT1H
BEGIN:VTIMEZONE
TZID:Europe/London
BEGIN:DAYLIGHT
TZOFFSETFROM:+0000
TZOFFSETTO:+0100
TZNAME:BST
DTSTART:20210328T010000
END:DAYLIGHT
BEGIN:STANDARD
TZOFFSETFROM:+0100
TZOFFSETTO:+0000
TZNAME:GMT
DTSTART:20211031T010000
END:STANDARD
BEGIN:DAYLIGHT
TZOFFSETFROM:+0000
TZOFFSETTO:+0100
TZNAME:BST
DTSTART:20220327T010000
END:DAYLIGHT
BEGIN:STANDARD
TZOFFSETFROM:+0100
TZOFFSETTO:+0000
TZNAME:GMT
DTSTART:20221030T010000
END:STANDARD
BEGIN:DAYLIGHT
TZOFFSETFROM:+0000
TZOFFSETTO:+0100
TZNAME:BST
DTSTART:20230326T010000
END:DAYLIGHT
BEGIN:STANDARD
TZOFFSETFROM:+0100
TZOFFSETTO:+0000
TZNAME:GMT
DTSTART:20231029T010000
END:STANDARD
END:VTIMEZONE
BEGIN:VEVENT
DTSTART;VALUE=DATE:20220911
DTEND;VALUE=DATE:20220912
DTSTAMP:20260423T111037
CREATED:20220810T101402Z
LAST-MODIFIED:20220820T104618Z
UID:3643-1662854400-1662940799@nibu1.co.uk
SUMMARY:East Down Pairs
DESCRIPTION:
URL:https://nibu1.co.uk/event/east-down-pairs
LOCATION:KMBC
END:VEVENT
BEGIN:VEVENT
DTSTART;VALUE=DATE:20220919
DTEND;VALUE=DATE:20220923
DTSTAMP:20260423T111037
CREATED:20220809T162052Z
LAST-MODIFIED:20220809T170608Z
UID:3633-1663545600-1663891199@nibu1.co.uk
SUMMARY:1st Interclub Duplicate Week
DESCRIPTION:
URL:https://nibu1.co.uk/event/interclub-duplicate-week-1
LOCATION:Clubs
END:VEVENT
BEGIN:VEVENT
DTSTART;VALUE=DATE:20220923
DTEND;VALUE=DATE:20220924
DTSTAMP:20260423T111037
CREATED:20220820T104437Z
LAST-MODIFIED:20220910T094315Z
UID:3682-1663891200-1663977599@nibu1.co.uk
SUMMARY:Final date for League and Knockout Cup entries
DESCRIPTION:
URL:https://nibu1.co.uk/event/final-date-for-league-and-cup-entries
END:VEVENT
BEGIN:VEVENT
DTSTART;VALUE=DATE:20220923
DTEND;VALUE=DATE:20220926
DTSTAMP:20260423T111037
CREATED:20220809T160546Z
LAST-MODIFIED:20220809T160813Z
UID:3620-1663891200-1664150399@nibu1.co.uk
SUMMARY:Camrose/Interprovincial Trials 1
DESCRIPTION:
URL:https://nibu1.co.uk/event/camrose-interprovincial-trials-1
LOCATION:KMBC
END:VEVENT
END:VCALENDAR