BEGIN:VCALENDAR
VERSION:2.0
PRODID:-//Northern Ireland Bridge Union - ECPv6.15.20//NONSGML v1.0//EN
CALSCALE:GREGORIAN
METHOD:PUBLISH
X-WR-CALNAME:Northern Ireland Bridge Union
X-ORIGINAL-URL:https://nibu1.co.uk
X-WR-CALDESC:Events for Northern Ireland Bridge Union
REFRESH-INTERVAL;VALUE=DURATION:PT1H
X-Robots-Tag:noindex
X-PUBLISHED-TTL:PT1H
BEGIN:VTIMEZONE
TZID:Europe/London
BEGIN:DAYLIGHT
TZOFFSETFROM:+0000
TZOFFSETTO:+0100
TZNAME:BST
DTSTART:20210328T010000
END:DAYLIGHT
BEGIN:STANDARD
TZOFFSETFROM:+0100
TZOFFSETTO:+0000
TZNAME:GMT
DTSTART:20211031T010000
END:STANDARD
BEGIN:DAYLIGHT
TZOFFSETFROM:+0000
TZOFFSETTO:+0100
TZNAME:BST
DTSTART:20220327T010000
END:DAYLIGHT
BEGIN:STANDARD
TZOFFSETFROM:+0100
TZOFFSETTO:+0000
TZNAME:GMT
DTSTART:20221030T010000
END:STANDARD
BEGIN:DAYLIGHT
TZOFFSETFROM:+0000
TZOFFSETTO:+0100
TZNAME:BST
DTSTART:20230326T010000
END:DAYLIGHT
BEGIN:STANDARD
TZOFFSETFROM:+0100
TZOFFSETTO:+0000
TZNAME:GMT
DTSTART:20231029T010000
END:STANDARD
END:VTIMEZONE
BEGIN:VEVENT
DTSTART;TZID=Europe/London:20221004T190000
DTEND;TZID=Europe/London:20221004T220000
DTSTAMP:20260420T154858
CREATED:20220927T114745Z
LAST-MODIFIED:20220927T114745Z
UID:3820-1664910000-1664920800@nibu1.co.uk
SUMMARY:Senior League
DESCRIPTION:
URL:https://nibu1.co.uk/event/senior-league
LOCATION:Real Bridge
END:VEVENT
BEGIN:VEVENT
DTSTART;VALUE=DATE:20221006
DTEND;VALUE=DATE:20221010
DTSTAMP:20260420T154858
CREATED:20220809T161835Z
LAST-MODIFIED:20220809T161835Z
UID:3631-1665014400-1665359999@nibu1.co.uk
SUMMARY:CBAI Drogheda Congress
DESCRIPTION:
URL:https://nibu1.co.uk/event/cbai-drogheda-congress
END:VEVENT
BEGIN:VEVENT
DTSTART;VALUE=DATE:20221014
DTEND;VALUE=DATE:20221017
DTSTAMP:20260420T154858
CREATED:20220809T160740Z
LAST-MODIFIED:20220809T160740Z
UID:3622-1665705600-1665964799@nibu1.co.uk
SUMMARY:Camrose/Interprovincial Trials 2
DESCRIPTION:
URL:https://nibu1.co.uk/event/camrose-interprovincial-trials-2
LOCATION:KMBC
END:VEVENT
BEGIN:VEVENT
DTSTART;VALUE=DATE:20221022
DTEND;VALUE=DATE:20221023
DTSTAMP:20260420T154858
CREATED:20220810T114453Z
LAST-MODIFIED:20220810T114453Z
UID:3645-1666396800-1666483199@nibu1.co.uk
SUMMARY:CBAI Spiro Cup
DESCRIPTION:
URL:https://nibu1.co.uk/event/cbai-spiro-cup
LOCATION:Dublin
END:VEVENT
BEGIN:VEVENT
DTSTART;VALUE=DATE:20221023
DTEND;VALUE=DATE:20221024
DTSTAMP:20260420T154858
CREATED:20220810T114601Z
LAST-MODIFIED:20220810T114601Z
UID:3647-1666483200-1666569599@nibu1.co.uk
SUMMARY:CBAI Coen Trophy
DESCRIPTION:
URL:https://nibu1.co.uk/event/cbai-coen-trophy
LOCATION:Dublin
END:VEVENT
END:VCALENDAR