BEGIN:VCALENDAR
VERSION:2.0
PRODID:-//Northern Ireland Bridge Union - ECPv6.15.20//NONSGML v1.0//EN
CALSCALE:GREGORIAN
METHOD:PUBLISH
X-WR-CALNAME:Northern Ireland Bridge Union
X-ORIGINAL-URL:https://nibu1.co.uk
X-WR-CALDESC:Events for Northern Ireland Bridge Union
REFRESH-INTERVAL;VALUE=DURATION:PT1H
X-Robots-Tag:noindex
X-PUBLISHED-TTL:PT1H
BEGIN:VTIMEZONE
TZID:Europe/London
BEGIN:DAYLIGHT
TZOFFSETFROM:+0000
TZOFFSETTO:+0100
TZNAME:BST
DTSTART:20210328T010000
END:DAYLIGHT
BEGIN:STANDARD
TZOFFSETFROM:+0100
TZOFFSETTO:+0000
TZNAME:GMT
DTSTART:20211031T010000
END:STANDARD
BEGIN:DAYLIGHT
TZOFFSETFROM:+0000
TZOFFSETTO:+0100
TZNAME:BST
DTSTART:20220327T010000
END:DAYLIGHT
BEGIN:STANDARD
TZOFFSETFROM:+0100
TZOFFSETTO:+0000
TZNAME:GMT
DTSTART:20221030T010000
END:STANDARD
BEGIN:DAYLIGHT
TZOFFSETFROM:+0000
TZOFFSETTO:+0100
TZNAME:BST
DTSTART:20230326T010000
END:DAYLIGHT
BEGIN:STANDARD
TZOFFSETFROM:+0100
TZOFFSETTO:+0000
TZNAME:GMT
DTSTART:20231029T010000
END:STANDARD
END:VTIMEZONE
BEGIN:VEVENT
DTSTART;TZID=Europe/London:20221102T190000
DTEND;TZID=Europe/London:20221102T220000
DTSTAMP:20260421T204500
CREATED:20220927T115025Z
LAST-MODIFIED:20221026T122000Z
UID:3822-1667415600-1667426400@nibu1.co.uk
SUMMARY:Senior League
DESCRIPTION:Link for Round 2
URL:https://nibu1.co.uk/event/senior-league-2
LOCATION:Real Bridge
END:VEVENT
BEGIN:VEVENT
DTSTART;VALUE=DATE:20221104
DTEND;VALUE=DATE:20221107
DTSTAMP:20260421T204500
CREATED:20220809T170444Z
LAST-MODIFIED:20220809T170444Z
UID:3639-1667520000-1667779199@nibu1.co.uk
SUMMARY:Donegal Congress
DESCRIPTION:
URL:https://nibu1.co.uk/event/donegal-congress-3
LOCATION:Donegal
END:VEVENT
BEGIN:VEVENT
DTSTART;VALUE=DATE:20221107
DTEND;VALUE=DATE:20221112
DTSTAMP:20260421T204500
CREATED:20220809T162246Z
LAST-MODIFIED:20220809T162246Z
UID:3635-1667779200-1668211199@nibu1.co.uk
SUMMARY:IBU Simultaneous Pairs Week
DESCRIPTION:
URL:https://nibu1.co.uk/event/ibu-simultaneous-pairs-week
LOCATION:Clubs
END:VEVENT
BEGIN:VEVENT
DTSTART;TZID=Europe/London:20221113T110000
DTEND;TZID=Europe/London:20221113T170000
DTSTAMP:20260421T204500
CREATED:20220921T122710Z
LAST-MODIFIED:20221030T135855Z
UID:3759-1668337200-1668358800@nibu1.co.uk
SUMMARY:Belfast Swiss Pairs
DESCRIPTION:
URL:https://nibu1.co.uk/event/belfast-swiss-pairs-3
END:VEVENT
BEGIN:VEVENT
DTSTART;TZID=Europe/London:20221118T190000
DTEND;TZID=Europe/London:20221118T213000
DTSTAMP:20260421T204500
CREATED:20220921T122454Z
LAST-MODIFIED:20221101T191943Z
UID:3757-1668798000-1668807000@nibu1.co.uk
SUMMARY:Mr Monty Handicap Pairs
DESCRIPTION:
URL:https://nibu1.co.uk/event/mr-monty-handicap-pairs-3
LOCATION:BBO
END:VEVENT
BEGIN:VEVENT
DTSTART;VALUE=DATE:20221119
DTEND;VALUE=DATE:20221121
DTSTAMP:20260421T204500
CREATED:20220809T161017Z
LAST-MODIFIED:20221011T200440Z
UID:3625-1668816000-1668988799@nibu1.co.uk
SUMMARY:Interprovincials
DESCRIPTION:
URL:https://nibu1.co.uk/event/interprovincials-2
LOCATION:Templeogue Bridge Centre\, Ireland
END:VEVENT
BEGIN:VEVENT
DTSTART;VALUE=DATE:20221121
DTEND;VALUE=DATE:20221125
DTSTAMP:20260421T204500
CREATED:20220818T151226Z
LAST-MODIFIED:20220818T151226Z
UID:3673-1668988800-1669334399@nibu1.co.uk
SUMMARY:2nd Interclub Duplicate Week
DESCRIPTION:
URL:https://nibu1.co.uk/event/2nd-interclub-duplicate-week
LOCATION:Clubs
END:VEVENT
BEGIN:VEVENT
DTSTART;TZID=Europe/London:20221122T190000
DTEND;TZID=Europe/London:20221122T220000
DTSTAMP:20260421T204500
CREATED:20220927T115125Z
LAST-MODIFIED:20220927T115125Z
UID:3824-1669143600-1669154400@nibu1.co.uk
SUMMARY:Senior League
DESCRIPTION:
URL:https://nibu1.co.uk/event/senior-league-3
LOCATION:Real Bridge
END:VEVENT
BEGIN:VEVENT
DTSTART;VALUE=DATE:20221125
DTEND;VALUE=DATE:20221128
DTSTAMP:20260421T204500
CREATED:20221002T170620Z
LAST-MODIFIED:20221108T114016Z
UID:3849-1669334400-1669593599@nibu1.co.uk
SUMMARY:Lady Milne Trials
DESCRIPTION:
URL:https://nibu1.co.uk/event/lady-milne-trials-5
END:VEVENT
BEGIN:VEVENT
DTSTART;TZID=Europe/London:20221125T190000
DTEND;TZID=Europe/London:20221125T213000
DTSTAMP:20260421T204500
CREATED:20220921T122935Z
LAST-MODIFIED:20221120T214808Z
UID:3761-1669402800-1669411800@nibu1.co.uk
SUMMARY:Mid Ulster Intermediate A/B Pairs
DESCRIPTION:
URL:https://nibu1.co.uk/event/mid-ulster-intermediate-a-b-pairs
LOCATION:BBO
END:VEVENT
END:VCALENDAR