BEGIN:VCALENDAR
VERSION:2.0
PRODID:-//Northern Ireland Bridge Union - ECPv6.15.20//NONSGML v1.0//EN
CALSCALE:GREGORIAN
METHOD:PUBLISH
X-WR-CALNAME:Northern Ireland Bridge Union
X-ORIGINAL-URL:https://nibu1.co.uk
X-WR-CALDESC:Events for Northern Ireland Bridge Union
REFRESH-INTERVAL;VALUE=DURATION:PT1H
X-Robots-Tag:noindex
X-PUBLISHED-TTL:PT1H
BEGIN:VTIMEZONE
TZID:Europe/London
BEGIN:DAYLIGHT
TZOFFSETFROM:+0000
TZOFFSETTO:+0100
TZNAME:BST
DTSTART:20230326T010000
END:DAYLIGHT
BEGIN:STANDARD
TZOFFSETFROM:+0100
TZOFFSETTO:+0000
TZNAME:GMT
DTSTART:20231029T010000
END:STANDARD
BEGIN:DAYLIGHT
TZOFFSETFROM:+0000
TZOFFSETTO:+0100
TZNAME:BST
DTSTART:20240331T010000
END:DAYLIGHT
BEGIN:STANDARD
TZOFFSETFROM:+0100
TZOFFSETTO:+0000
TZNAME:GMT
DTSTART:20241027T010000
END:STANDARD
BEGIN:DAYLIGHT
TZOFFSETFROM:+0000
TZOFFSETTO:+0100
TZNAME:BST
DTSTART:20250330T010000
END:DAYLIGHT
BEGIN:STANDARD
TZOFFSETFROM:+0100
TZOFFSETTO:+0000
TZNAME:GMT
DTSTART:20251026T010000
END:STANDARD
END:VTIMEZONE
BEGIN:VEVENT
DTSTART;TZID=Europe/London:20240407T110000
DTEND;TZID=Europe/London:20240407T170000
DTSTAMP:20260423T145947
CREATED:20231205T114311Z
LAST-MODIFIED:20231205T114311Z
UID:5078-1712487600-1712509200@nibu1.co.uk
SUMMARY:Swiss Pairs
DESCRIPTION:
URL:https://nibu1.co.uk/event/swiss-pairs
LOCATION:KMBC
END:VEVENT
BEGIN:VEVENT
DTSTART;TZID=Europe/London:20240410T190000
DTEND;TZID=Europe/London:20240410T220000
DTSTAMP:20260423T145947
CREATED:20231205T115200Z
LAST-MODIFIED:20231205T115200Z
UID:5084-1712775600-1712786400@nibu1.co.uk
SUMMARY:NIBU Senior League Round 9
DESCRIPTION:
URL:https://nibu1.co.uk/event/nibu-senior-league-round-9
LOCATION:Real Bridge
END:VEVENT
BEGIN:VEVENT
DTSTART;VALUE=DATE:20240413
DTEND;VALUE=DATE:20240415
DTSTAMP:20260423T145947
CREATED:20230629T135817Z
LAST-MODIFIED:20230629T135817Z
UID:4721-1712966400-1713139199@nibu1.co.uk
SUMMARY:Moylan
DESCRIPTION:
URL:https://nibu1.co.uk/event/moylan
END:VEVENT
BEGIN:VEVENT
DTSTART;VALUE=DATE:20240419
DTEND;VALUE=DATE:20240422
DTSTAMP:20260423T145947
CREATED:20230629T134741Z
LAST-MODIFIED:20230629T134741Z
UID:4705-1713484800-1713743999@nibu1.co.uk
SUMMARY:Lady Milne Trophy
DESCRIPTION:
URL:https://nibu1.co.uk/event/lady-milne-trophy-4
LOCATION:Dublin
END:VEVENT
BEGIN:VEVENT
DTSTART;TZID=Europe/London:20240427T110000
DTEND;TZID=Europe/London:20240427T170000
DTSTAMP:20260423T145947
CREATED:20230629T134445Z
LAST-MODIFIED:20240426T094640Z
UID:4703-1714215600-1714237200@nibu1.co.uk
SUMMARY:Provincial Mixed Pairs
DESCRIPTION:
URL:https://nibu1.co.uk/event/provincial-mixed-pairs-4
LOCATION:BBO
END:VEVENT
END:VCALENDAR