BEGIN:VCALENDAR
VERSION:2.0
PRODID:-//Northern Ireland Bridge Union - ECPv6.15.20//NONSGML v1.0//EN
CALSCALE:GREGORIAN
METHOD:PUBLISH
X-WR-CALNAME:Northern Ireland Bridge Union
X-ORIGINAL-URL:https://nibu1.co.uk
X-WR-CALDESC:Events for Northern Ireland Bridge Union
REFRESH-INTERVAL;VALUE=DURATION:PT1H
X-Robots-Tag:noindex
X-PUBLISHED-TTL:PT1H
BEGIN:VTIMEZONE
TZID:Europe/London
BEGIN:DAYLIGHT
TZOFFSETFROM:+0000
TZOFFSETTO:+0100
TZNAME:BST
DTSTART:20240331T010000
END:DAYLIGHT
BEGIN:STANDARD
TZOFFSETFROM:+0100
TZOFFSETTO:+0000
TZNAME:GMT
DTSTART:20241027T010000
END:STANDARD
BEGIN:DAYLIGHT
TZOFFSETFROM:+0000
TZOFFSETTO:+0100
TZNAME:BST
DTSTART:20250330T010000
END:DAYLIGHT
BEGIN:STANDARD
TZOFFSETFROM:+0100
TZOFFSETTO:+0000
TZNAME:GMT
DTSTART:20251026T010000
END:STANDARD
BEGIN:DAYLIGHT
TZOFFSETFROM:+0000
TZOFFSETTO:+0100
TZNAME:BST
DTSTART:20260329T010000
END:DAYLIGHT
BEGIN:STANDARD
TZOFFSETFROM:+0100
TZOFFSETTO:+0000
TZNAME:GMT
DTSTART:20261025T010000
END:STANDARD
END:VTIMEZONE
BEGIN:VEVENT
DTSTART;TZID=Europe/London:20250303T190000
DTEND;TZID=Europe/London:20250303T220000
DTSTAMP:20260420T154853
CREATED:20241214T113237Z
LAST-MODIFIED:20250303T121211Z
UID:6004-1741028400-1741039200@nibu1.co.uk
SUMMARY:Robb Cup
DESCRIPTION:
URL:https://nibu1.co.uk/event/robb-cup-3
LOCATION:Derryvolgie Bridge Club
END:VEVENT
BEGIN:VEVENT
DTSTART;VALUE=DATE:20250307
DTEND;VALUE=DATE:20250310
DTSTAMP:20260420T154853
CREATED:20240821T135557Z
LAST-MODIFIED:20240821T135557Z
UID:5663-1741305600-1741564799@nibu1.co.uk
SUMMARY:Camrose Trophy 2025 Weekend 2
DESCRIPTION:
URL:https://nibu1.co.uk/event/camrose-trophy-2025-weekend-2
LOCATION:La Mon
END:VEVENT
BEGIN:VEVENT
DTSTART;TZID=Europe/London:20250313T190000
DTEND;TZID=Europe/London:20250313T220000
DTSTAMP:20260420T154853
CREATED:20250304T224224Z
LAST-MODIFIED:20250304T224224Z
UID:6193-1741892400-1741903200@nibu1.co.uk
SUMMARY:NIBU Senior League Rounds 13 and 14
DESCRIPTION:
URL:https://nibu1.co.uk/event/nibu-senior-league-rounds-13-and-14
LOCATION:Real Bridge
END:VEVENT
BEGIN:VEVENT
DTSTART;TZID=Europe/London:20250323T110000
DTEND;TZID=Europe/London:20250323T170000
DTSTAMP:20260420T154853
CREATED:20250130T140653Z
LAST-MODIFIED:20250130T140653Z
UID:6110-1742727600-1742749200@nibu1.co.uk
SUMMARY:NI Teams
DESCRIPTION:
URL:https://nibu1.co.uk/event/ni-teams-6
LOCATION:KMBC
END:VEVENT
BEGIN:VEVENT
DTSTART;TZID=Europe/London:20250327T190000
DTEND;TZID=Europe/London:20250327T220000
DTSTAMP:20260420T154853
CREATED:20241214T113941Z
LAST-MODIFIED:20241214T113941Z
UID:6011-1743102000-1743112800@nibu1.co.uk
SUMMARY:NIBU Intermediate Round 5
DESCRIPTION:
URL:https://nibu1.co.uk/event/nibu-intermediate-round-5
LOCATION:Real Bridge
END:VEVENT
END:VCALENDAR