BEGIN:VCALENDAR
VERSION:2.0
PRODID:-//Northern Ireland Bridge Union - ECPv6.15.20//NONSGML v1.0//EN
CALSCALE:GREGORIAN
METHOD:PUBLISH
X-ORIGINAL-URL:https://nibu1.co.uk
X-WR-CALDESC:Events for Northern Ireland Bridge Union
REFRESH-INTERVAL;VALUE=DURATION:PT1H
X-Robots-Tag:noindex
X-PUBLISHED-TTL:PT1H
BEGIN:VTIMEZONE
TZID:Europe/London
BEGIN:DAYLIGHT
TZOFFSETFROM:+0000
TZOFFSETTO:+0100
TZNAME:BST
DTSTART:20240331T010000
END:DAYLIGHT
BEGIN:STANDARD
TZOFFSETFROM:+0100
TZOFFSETTO:+0000
TZNAME:GMT
DTSTART:20241027T010000
END:STANDARD
BEGIN:DAYLIGHT
TZOFFSETFROM:+0000
TZOFFSETTO:+0100
TZNAME:BST
DTSTART:20250330T010000
END:DAYLIGHT
BEGIN:STANDARD
TZOFFSETFROM:+0100
TZOFFSETTO:+0000
TZNAME:GMT
DTSTART:20251026T010000
END:STANDARD
BEGIN:DAYLIGHT
TZOFFSETFROM:+0000
TZOFFSETTO:+0100
TZNAME:BST
DTSTART:20260329T010000
END:DAYLIGHT
BEGIN:STANDARD
TZOFFSETFROM:+0100
TZOFFSETTO:+0000
TZNAME:GMT
DTSTART:20261025T010000
END:STANDARD
END:VTIMEZONE
BEGIN:VEVENT
DTSTART;TZID=Europe/London:20250403T190000
DTEND;TZID=Europe/London:20250403T220000
DTSTAMP:20260422T141256
CREATED:20250322T223908Z
LAST-MODIFIED:20250322T223908Z
UID:6229-1743706800-1743717600@nibu1.co.uk
SUMMARY:NIBU Senior League Round 15
DESCRIPTION:
URL:https://nibu1.co.uk/event/nibu-senior-league-round-15
LOCATION:Real Bridge
END:VEVENT
BEGIN:VEVENT
DTSTART;TZID=Europe/London:20250406T110000
DTEND;TZID=Europe/London:20250406T170000
DTSTAMP:20260422T141256
CREATED:20250323T105927Z
LAST-MODIFIED:20250403T095526Z
UID:6231-1743937200-1743958800@nibu1.co.uk
SUMMARY:NIBU Swiss Pairs
DESCRIPTION:
URL:https://nibu1.co.uk/event/nibu-swiss-pairs
LOCATION:KMBC
END:VEVENT
BEGIN:VEVENT
DTSTART;VALUE=DATE:20250411
DTEND;VALUE=DATE:20250414
DTSTAMP:20260422T141256
CREATED:20240821T134656Z
LAST-MODIFIED:20240821T134656Z
UID:5657-1744329600-1744588799@nibu1.co.uk
SUMMARY:Lady Milne Trophy 2025
DESCRIPTION:
URL:https://nibu1.co.uk/event/lady-milne-trophy-2025
LOCATION:England
END:VEVENT
BEGIN:VEVENT
DTSTART;VALUE=DATE:20250422
DTEND;VALUE=DATE:20250425
DTSTAMP:20260422T141256
CREATED:20250323T110119Z
LAST-MODIFIED:20250323T110119Z
UID:6233-1745280000-1745539199@nibu1.co.uk
SUMMARY:IBU Seniors Congress
DESCRIPTION:
URL:https://nibu1.co.uk/event/ibu-seniors-congress-2
LOCATION:Cavan Crystal Hotel
END:VEVENT
BEGIN:VEVENT
DTSTART;VALUE=DATE:20250426
DTEND;VALUE=DATE:20250428
DTSTAMP:20260422T141256
CREATED:20250323T110250Z
LAST-MODIFIED:20250323T110250Z
UID:6235-1745625600-1745798399@nibu1.co.uk
SUMMARY:IBU Moylan Trophy
DESCRIPTION:
URL:https://nibu1.co.uk/event/ibu-moylan-trophy
LOCATION:Malahide
END:VEVENT
END:VCALENDAR